BEGIN:VCALENDAR
VERSION:2.0
PRODID:-//NORDQUA - ECPv6.15.20//NONSGML v1.0//EN
CALSCALE:GREGORIAN
METHOD:PUBLISH
X-WR-CALNAME:NORDQUA
X-ORIGINAL-URL:https://nordqua.org
X-WR-CALDESC:Events for NORDQUA
REFRESH-INTERVAL;VALUE=DURATION:PT1H
X-Robots-Tag:noindex
X-PUBLISHED-TTL:PT1H
BEGIN:VTIMEZONE
TZID:Europe/Oslo
BEGIN:DAYLIGHT
TZOFFSETFROM:+0100
TZOFFSETTO:+0200
TZNAME:CEST
DTSTART:20240331T010000
END:DAYLIGHT
BEGIN:STANDARD
TZOFFSETFROM:+0200
TZOFFSETTO:+0100
TZNAME:CET
DTSTART:20241027T010000
END:STANDARD
BEGIN:DAYLIGHT
TZOFFSETFROM:+0100
TZOFFSETTO:+0200
TZNAME:CEST
DTSTART:20250330T010000
END:DAYLIGHT
BEGIN:STANDARD
TZOFFSETFROM:+0200
TZOFFSETTO:+0100
TZNAME:CET
DTSTART:20251026T010000
END:STANDARD
BEGIN:DAYLIGHT
TZOFFSETFROM:+0100
TZOFFSETTO:+0200
TZNAME:CEST
DTSTART:20260329T010000
END:DAYLIGHT
BEGIN:STANDARD
TZOFFSETFROM:+0200
TZOFFSETTO:+0100
TZNAME:CET
DTSTART:20261025T010000
END:STANDARD
END:VTIMEZONE
BEGIN:VEVENT
DTSTART;VALUE=DATE:20250602
DTEND;VALUE=DATE:20250606
DTSTAMP:20260421T233351
CREATED:20250114T131511Z
LAST-MODIFIED:20250114T131511Z
UID:2179-1748822400-1749167999@nordqua.org
SUMMARY:Fjords in a changing climate
DESCRIPTION:An interdisciplinary workshop on the physical oceanography\, biogeochemistry and biology of fjords in the past\, present and future.
URL:https://nordqua.org/event/fjords-in-a-changing-climate/
LOCATION:Stalheim\, Norway
CATEGORIES:Workshop
ATTACH;FMTTYPE=image/png:https://nordqua.org/wp-content/uploads/2025/01/logo-bjerknes-centre-large.png
END:VEVENT
BEGIN:VEVENT
DTSTART;VALUE=DATE:20250602
DTEND;VALUE=DATE:20250607
DTSTAMP:20260421T233351
CREATED:20240529T102118Z
LAST-MODIFIED:20240529T102200Z
UID:1985-1748822400-1749254399@nordqua.org
SUMMARY:2025 Glacial Isostatic Adjustment Workshop
DESCRIPTION:A workshop focused on glacial isostatic adjustment (GIA)\, ice sheets\, sea-level change\, and associated geodetic and geophysical observational constraints will be held at the Institute of Ocean Sciences (IOS) and Pacific Geoscience Centre (PGC)\, located near Sidney\, British Columbia\, Canada\, from 2-6 June 2025.  The workshop aims to bring together 80-100 researchers of all career stages to discuss recent advances in the observations\, analysis\, and modelling of GIA.
URL:https://nordqua.org/event/2025-glacial-isostatic-adjustment-workshop/
LOCATION:Sidney\, Canada
CATEGORIES:Workshop
ATTACH;FMTTYPE=image/jpeg:https://nordqua.org/wp-content/uploads/2022/09/polenet2.jpg
END:VEVENT
BEGIN:VEVENT
DTSTART;VALUE=DATE:20250618
DTEND;VALUE=DATE:20250622
DTSTAMP:20260421T233351
CREATED:20250114T131113Z
LAST-MODIFIED:20250114T131113Z
UID:2175-1750204800-1750550399@nordqua.org
SUMMARY:2nd PALSEA-Next workshop: Paleoconstraints on past sea-level changes
DESCRIPTION:This meeting will focus on the second objective of PALSEA-Next\, which is to discuss\, share\, and plan the next steps for new and existing databases of paleo sea-level data. More specifically\, the discussion session/workshop component of this meeting will focus on summarizing the work done by the community so far.
URL:https://nordqua.org/event/2nd-palsea-next-workshop-paleoconstraints-on-past-sea-level-changes/
LOCATION:Venice\, Italy
CATEGORIES:Workshop
ATTACH;FMTTYPE=image/jpeg:https://nordqua.org/wp-content/uploads/2025/01/palsea.jpg
END:VEVENT
END:VCALENDAR