BEGIN:VCALENDAR
VERSION:2.0
PRODID:-//NORDQUA - ECPv6.15.20//NONSGML v1.0//EN
CALSCALE:GREGORIAN
METHOD:PUBLISH
X-ORIGINAL-URL:https://nordqua.org
X-WR-CALDESC:Events for NORDQUA
REFRESH-INTERVAL;VALUE=DURATION:PT1H
X-Robots-Tag:noindex
X-PUBLISHED-TTL:PT1H
BEGIN:VTIMEZONE
TZID:Europe/Oslo
BEGIN:DAYLIGHT
TZOFFSETFROM:+0100
TZOFFSETTO:+0200
TZNAME:CEST
DTSTART:20250330T010000
END:DAYLIGHT
BEGIN:STANDARD
TZOFFSETFROM:+0200
TZOFFSETTO:+0100
TZNAME:CET
DTSTART:20251026T010000
END:STANDARD
BEGIN:DAYLIGHT
TZOFFSETFROM:+0100
TZOFFSETTO:+0200
TZNAME:CEST
DTSTART:20260329T010000
END:DAYLIGHT
BEGIN:STANDARD
TZOFFSETFROM:+0200
TZOFFSETTO:+0100
TZNAME:CET
DTSTART:20261025T010000
END:STANDARD
BEGIN:DAYLIGHT
TZOFFSETFROM:+0100
TZOFFSETTO:+0200
TZNAME:CEST
DTSTART:20270328T010000
END:DAYLIGHT
BEGIN:STANDARD
TZOFFSETFROM:+0200
TZOFFSETTO:+0100
TZNAME:CET
DTSTART:20271031T010000
END:STANDARD
END:VTIMEZONE
BEGIN:VEVENT
DTSTART;VALUE=DATE:20260824
DTEND;VALUE=DATE:20260829
DTSTAMP:20260421T070846
CREATED:20260127T104407Z
LAST-MODIFIED:20260127T104407Z
UID:2440-1787529600-1787961599@nordqua.org
SUMMARY:Global Glacier Modelling Workshop
DESCRIPTION:The workshop will be a collegial meeting for glacier modellers and users working at regional to global scales. It will include a dedicated session providing an update on the 4th phase of the Glacier Model Intercomparison Project (GlacierMIP4) and will also mark the 10th anniversary of the first OGGM workshop in the same location\, which we plan to celebrate. \n\nFebruary 2026 — Call for abstracts & registration opens\nMarch 2026 — Participants informed of acceptance\nApril 2026 — Waiting list notifications (if needed)\nMay 2026 — First programme draft published\nAugust 2026 — Workshop!
URL:https://nordqua.org/event/global-glacier-modelling-workshop/
LOCATION:Obergurgl\, Austria
CATEGORIES:Workshop
ATTACH;FMTTYPE=image/webp:https://nordqua.org/wp-content/uploads/2026/01/oggm_logo.webp
END:VEVENT
END:VCALENDAR