BEGIN:VCALENDAR
VERSION:2.0
PRODID:-//NORDQUA - ECPv6.15.20//NONSGML v1.0//EN
CALSCALE:GREGORIAN
METHOD:PUBLISH
X-ORIGINAL-URL:https://nordqua.org
X-WR-CALDESC:Events for NORDQUA
REFRESH-INTERVAL;VALUE=DURATION:PT1H
X-Robots-Tag:noindex
X-PUBLISHED-TTL:PT1H
BEGIN:VTIMEZONE
TZID:Europe/Oslo
BEGIN:DAYLIGHT
TZOFFSETFROM:+0100
TZOFFSETTO:+0200
TZNAME:CEST
DTSTART:20240331T010000
END:DAYLIGHT
BEGIN:STANDARD
TZOFFSETFROM:+0200
TZOFFSETTO:+0100
TZNAME:CET
DTSTART:20241027T010000
END:STANDARD
BEGIN:DAYLIGHT
TZOFFSETFROM:+0100
TZOFFSETTO:+0200
TZNAME:CEST
DTSTART:20250330T010000
END:DAYLIGHT
BEGIN:STANDARD
TZOFFSETFROM:+0200
TZOFFSETTO:+0100
TZNAME:CET
DTSTART:20251026T010000
END:STANDARD
BEGIN:DAYLIGHT
TZOFFSETFROM:+0100
TZOFFSETTO:+0200
TZNAME:CEST
DTSTART:20260329T010000
END:DAYLIGHT
BEGIN:STANDARD
TZOFFSETFROM:+0200
TZOFFSETTO:+0100
TZNAME:CET
DTSTART:20261025T010000
END:STANDARD
BEGIN:DAYLIGHT
TZOFFSETFROM:+0100
TZOFFSETTO:+0200
TZNAME:CEST
DTSTART:20270328T010000
END:DAYLIGHT
BEGIN:STANDARD
TZOFFSETFROM:+0200
TZOFFSETTO:+0100
TZNAME:CET
DTSTART:20271031T010000
END:STANDARD
BEGIN:DAYLIGHT
TZOFFSETFROM:+0100
TZOFFSETTO:+0200
TZNAME:CEST
DTSTART:20280326T010000
END:DAYLIGHT
BEGIN:STANDARD
TZOFFSETFROM:+0200
TZOFFSETTO:+0100
TZNAME:CET
DTSTART:20281029T010000
END:STANDARD
END:VTIMEZONE
BEGIN:VEVENT
DTSTART;VALUE=DATE:20251006
DTEND;VALUE=DATE:20251011
DTSTAMP:20260420T200543
CREATED:20240911T074145Z
LAST-MODIFIED:20240911T074145Z
UID:2094-1759708800-1760140799@nordqua.org
SUMMARY:The 16th International Paleolimnology Symposium
DESCRIPTION:The goal of the IAL-IPA joint meetings is to celebrate research on lakes\, from multiple perspectives\, with a focus on the sediment record as both Earth System Archives and social and cultural memories of Human societies. This conference aims to bridge the gap across a broad range of disciplines that work within the overarching theme of Earth System and Climate-Environment-Cultural changes.  \n\nIn 2025 we will gather in the lovely thermal city of Aix-Les-Bains\, in the vicinity of Université Savoie Mont-Blanc scientfic campus that hosts some of most active labs in France\, working on lake sediment records and on the shore of Lake Bourget\, which sediment accumulation has been intensively studied for decades. The orgnisation committee is keen to welcome you in Savoie !
URL:https://nordqua.org/event/the-16th-international-paleolimnology-symposium/
LOCATION:Aix-les-Bains\, France
CATEGORIES:Conference
ATTACH;FMTTYPE=image/webp:https://nordqua.org/wp-content/uploads/2024/09/IPA.webp
END:VEVENT
BEGIN:VEVENT
DTSTART;VALUE=DATE:20251028
DTEND;VALUE=DATE:20251030
DTSTAMP:20260420T200543
CREATED:20250930T090346Z
LAST-MODIFIED:20250930T090346Z
UID:2322-1761609600-1761782399@nordqua.org
SUMMARY:Svalbard Science Conference 2025
DESCRIPTION:Svalbard as an Arctic hotspot for climate change and international cooperation. Conference 28-29 October 2025 at Quality Hotel Expo\, Fornebu (Oslo).
URL:https://nordqua.org/event/svalbard-science-conference-2025/
LOCATION:Oslo\, Norway
CATEGORIES:Conference
END:VEVENT
BEGIN:VEVENT
DTSTART;VALUE=DATE:20251105
DTEND;VALUE=DATE:20251109
DTSTAMP:20260420T200543
CREATED:20250716T100136Z
LAST-MODIFIED:20250716T100136Z
UID:2309-1762300800-1762646399@nordqua.org
SUMMARY:The Micropalaeontological Society Annual Meeting 2025
DESCRIPTION:TMS Annual Conference 2025\, 5th – 8th November 2025\, University of Pisa\, Italy \nA natural kaleidoscope: understanding the Earth system through microfossils
URL:https://nordqua.org/event/the-micropalaeontological-society-annual-meeting-2025/
LOCATION:Pisa\, Italy
CATEGORIES:Conference,Excursion
ATTACH;FMTTYPE=image/png:https://nordqua.org/wp-content/uploads/2025/07/New_TMS_logo.png
END:VEVENT
BEGIN:VEVENT
DTSTART;VALUE=DATE:20251117
DTEND;VALUE=DATE:20251122
DTSTAMP:20260420T200543
CREATED:20250528T091938Z
LAST-MODIFIED:20250528T091938Z
UID:2291-1763337600-1763769599@nordqua.org
SUMMARY:Geotraces 4th Summer School
DESCRIPTION:The GEOTRACES Summer School 2025 will take place from 17 to 21 November 2025 in Cape Town\, South Africa. It will provide training in marine biogeochemistry of trace elements and their isotopes for 36 students. Applications are open to Master\, PhD and postdoctoral researchers. \nThe training will include a combination of lectures\, practicals\, and field work\, all led by 15 international GEOTRACES experts.
URL:https://nordqua.org/event/geotraces-4th-summer-school/
LOCATION:Cape Town\, South Africa
CATEGORIES:Workshop
ATTACH;FMTTYPE=image/png:https://nordqua.org/wp-content/uploads/2025/05/geotraces.png
END:VEVENT
BEGIN:VEVENT
DTSTART;VALUE=DATE:20251117
DTEND;VALUE=DATE:20251122
DTSTAMP:20260420T200543
CREATED:20251010T155005Z
LAST-MODIFIED:20251010T155005Z
UID:2378-1763337600-1763769599@nordqua.org
SUMMARY:Short Course in Luminescence Dating: Theory\, Methods and Application
DESCRIPTION:Learn from world-leading experts and gain practical experience in luminescence dating. \nLed by experts Professor Helen Roberts and Professor Geoff Duller\, this course will be based in the Aberystwyth Luminescence Research Laboratory (ALRL) which has been at the forefront of research into luminescence dating for 30 years and is one of the best equipped facilities in the world. Over five days\, you will gain an insight into the different approaches that are possible with this rapidly developing family of techniques which are widely used in geological and archaeological studies around the world. The knowledge gained will allow you to plan your own luminescence projects and assess published data.
URL:https://nordqua.org/event/short-course-in-luminescence-dating-theory-methods-and-application/
LOCATION:Aberystwyth\, UK
CATEGORIES:Course
ATTACH;FMTTYPE=image/png:https://nordqua.org/wp-content/uploads/2025/10/aber-uni-logo-3d-with-1872-scaled.png
END:VEVENT
BEGIN:VEVENT
DTSTART;VALUE=DATE:20251215
DTEND;VALUE=DATE:20251220
DTSTAMP:20260420T200543
CREATED:20250930T103232Z
LAST-MODIFIED:20250930T103241Z
UID:2330-1765756800-1766188799@nordqua.org
SUMMARY:AGU25
DESCRIPTION:Connections. They link us together. Make us stronger. Help us grow. Give us hope. Move us forward. The Earth and space science community is all about connection. A vibrant hive of research\, discovery\, action\, and solution. Connections twist and move. They pivot unpredictably. They can challenge us\, surprise us\, and sometimes delight us. From the lab to the field to the ballot box\, science depends on connection. At AGU25 we celebrate all the ways we connect. The purpose of what we connect. The power of how we connect. The promise of where we connect.
URL:https://nordqua.org/event/agu25/
LOCATION:New Orleans\, US
CATEGORIES:Conference
ATTACH;FMTTYPE=image/png:https://nordqua.org/wp-content/uploads/2025/09/AGU25_Full_Event_Logo_BLACK.png
END:VEVENT
BEGIN:VEVENT
DTSTART;VALUE=DATE:20260105
DTEND;VALUE=DATE:20260109
DTSTAMP:20260420T200543
CREATED:20251020T104805Z
LAST-MODIFIED:20251020T104805Z
UID:2383-1767571200-1767916799@nordqua.org
SUMMARY:QRA Annual Discussion Meeting 2026
DESCRIPTION:The 2026 Quaternary Research Association (QRA) Annual Discussion Meeting (ADM) is being hosted at the University of Brighton. The theme of the ADM is ‘The Quaternary: Past Human and Environment Dynamics’.\n \n\n\n5th January: Early-career and mid-career workshops; oral and poster presentations; Wiley keynote speaker; icebreaker event. \n\n\n6th January: Oral and poster presentations; JQS 40th Anniversary Celebration; QRA keynote speaker; QRA Annual General Meeting and prize giving; conference dinner. \n\n\n7th January: Oral and poster presentations; EDI session and discussion. \n\n\n8th January: One-day field trip to Birling Gap and Black Rock.
URL:https://nordqua.org/event/qra-annual-discussion-meeting-2026/
LOCATION:Brighton\, UK
CATEGORIES:Conference,Excursion
ATTACH;FMTTYPE=image/png:https://nordqua.org/wp-content/uploads/2025/10/qra_brighton.png
END:VEVENT
BEGIN:VEVENT
DTSTART;VALUE=DATE:20260113
DTEND;VALUE=DATE:20260116
DTSTAMP:20260420T200543
CREATED:20241218T121623Z
LAST-MODIFIED:20241218T121623Z
UID:2140-1768262400-1768521599@nordqua.org
SUMMARY:37th Nordic Geological Winter Meeting (NGWM)
DESCRIPTION:We hereby invite you to propose scientific sessions for the program of the 37th Nordic Geological Winter Meeting (NGWM)\, to be held in Turku\, Finland\, 13-15 January 2026. The NGWM community includes researchers from Denmark\, Finland\, Iceland\, Norway and Sweden working on a broad range of disciplines in the geosciences and we aim to compile a program reflecting this diversity. The overall theme of the meeting will be World in Transition\, with plenary events tailored to reflect this theme. Scientific sessions may be discipline-specific or cross-disciplinary\, especially if considered to be fitting the Transition theme.
URL:https://nordqua.org/event/37th-nordic-geological-winter-meeting-ngwm/
LOCATION:Turku\, Finland
CATEGORIES:Conference
END:VEVENT
BEGIN:VEVENT
DTSTART;VALUE=DATE:20260202
DTEND;VALUE=DATE:20260207
DTSTAMP:20260420T200543
CREATED:20240529T101711Z
LAST-MODIFIED:20240529T101711Z
UID:1979-1769990400-1770422399@nordqua.org
SUMMARY:11th IAG international conference on geomorphology
DESCRIPTION:We look forward to welcoming you to Christchurch New Zealand for the International Conference on Geomorphology in 2026. Tectonically-active\, in the ‘Roaring 40s’ and geologically-young\, Aotearoa New Zealand offers world-class geomorphology with some of the world’s fastest rates of uplift and erosion.
URL:https://nordqua.org/event/11th-iag-international-conference-on-geomorphology/
LOCATION:Christchurch\, New Zealand
CATEGORIES:Conference
ATTACH;FMTTYPE=image/png:https://nordqua.org/wp-content/uploads/2024/05/IAG-logo1.png
END:VEVENT
BEGIN:VEVENT
DTSTART;VALUE=DATE:20260323
DTEND;VALUE=DATE:20260326
DTSTAMP:20260420T200543
CREATED:20250930T102936Z
LAST-MODIFIED:20250930T102936Z
UID:2325-1774224000-1774483199@nordqua.org
SUMMARY:Ice Sheet Model Intercomparison Project (ISMIP) workshop
DESCRIPTION:ISMIP7 is the Ice Sheet Model Intercomparison Project for CMIP7 (pronounced `IZ-mip`)\nMelt of Earth’s ice sheets is already contributing to flooding experienced by coastal communities\, globally. \nISMIP7 uses computer simulations of ice sheet change (i.e.\, ice sheet modeling) to project future contributions to flooding by modeling how the ice sheets will lose or gain ice under the different potential futures for Earth’s climate projected by CMIP. \nCore to ISMIP7’s approach is a broad and open collaboration of nearly all international ice sheet models\, to incorporate as many uncertainties and as much glaciological information as possible.
URL:https://nordqua.org/event/ice-sheet-model-intercomparison-project-ismip-workshop/
LOCATION:Copenhagen\, Denmark
CATEGORIES:Workshop
ATTACH;FMTTYPE=image/png:https://nordqua.org/wp-content/uploads/2025/09/ismip7.png
END:VEVENT
BEGIN:VEVENT
DTSTART;VALUE=DATE:20260503
DTEND;VALUE=DATE:20260509
DTSTAMP:20260420T200543
CREATED:20250930T103447Z
LAST-MODIFIED:20250930T103447Z
UID:2334-1777766400-1778284799@nordqua.org
SUMMARY:EGU26
DESCRIPTION:Abstract submission and support applications for EGU26 will open on 22 October 2025.
URL:https://nordqua.org/event/egu26/
LOCATION:Austria Center Vienna\, Vienna\, Austria
CATEGORIES:Conference
ATTACH;FMTTYPE=image/webp:https://nordqua.org/wp-content/uploads/2025/09/template_egu26_logo.webp
END:VEVENT
BEGIN:VEVENT
DTSTART;VALUE=DATE:20260519
DTEND;VALUE=DATE:20260529
DTSTAMP:20260420T200543
CREATED:20251210T103314Z
LAST-MODIFIED:20251210T103314Z
UID:2394-1779148800-1780012799@nordqua.org
SUMMARY:Karthaus summer school on Ice Sheets and Glaciers in the Climate System
DESCRIPTION:The next Karthaus course will be held from 19 May to 28 May 2026 in Karthaus (northern Italy). (Arrival on Monday 18 May\, departure on Friday 29 May.\nThe course is open for applications. Deadline for applications is 10 January 2026.
URL:https://nordqua.org/event/karthaus-summer-school-on-ice-sheets-and-glaciers-in-the-climate-system/
LOCATION:Karthaus\, Italy
CATEGORIES:Course
END:VEVENT
BEGIN:VEVENT
DTSTART;VALUE=DATE:20260526
DTEND;VALUE=DATE:20260530
DTSTAMP:20260420T200543
CREATED:20260212T110005Z
LAST-MODIFIED:20260212T110005Z
UID:2465-1779753600-1780099199@nordqua.org
SUMMARY:ARCPaC 2026
DESCRIPTION:The final deadline for registration and abstract submission is 31 March\, but to take advantage of the reduced early-bird registration fee and early-career support\, the deadline is 15 March. \nThis 2026 conference in Aarhus is the first meeting of ARCPaC. Learn more about our research network on the ARCPaC Homepage. The objectives of the conference include to promote knowledge exchange within the Arctic climate science community\, to foster new partnerships and collaborations\, and to encourage participation of early-career Arctic researchers.
URL:https://nordqua.org/event/arcpac-2026/
LOCATION:Aarhus\, Denmark
CATEGORIES:Conference,Excursion
ATTACH;FMTTYPE=image/webp:https://nordqua.org/wp-content/uploads/2026/02/arcpac2026.webp
END:VEVENT
BEGIN:VEVENT
DTSTART;VALUE=DATE:20260530
DTEND;VALUE=DATE:20260531
DTSTAMP:20260420T200543
CREATED:20260212T110213Z
LAST-MODIFIED:20260212T110213Z
UID:2470-1780099200-1780185599@nordqua.org
SUMMARY:NORDQUA excursion 2026
DESCRIPTION:The 2026 NORDQUA Excursion is planned for May 30th 2026 – leaving from Aarhus\, Denmark. The Excursion will directly follow the 1st International ARCPaC Conference held in Aarhus May 26-29th. The excursion will start with a small gathering the evening of May 29th followed by a full-day field trip including a range of geomorphology\, sedimentology and geological discussions related to Jutland’s glacial and sea level history. Stay tuned for Excursion registration and details – coming early Spring 2026. \nLocal Excursion Organizers: Aarhus University – Tim Lane and Jan Piotrowski; and GEUS – Anders Damsgaard. \nPlease reach out to the local lead organizer Tim Lane (timothy.lane@geo.au.dk) or the NORDQUA excursion officer Wesley Farnsworth (WesleyF@hi.is) if you have any questions.
URL:https://nordqua.org/event/nordqua-excursion-2026/
LOCATION:Aarhus\, Denmark
CATEGORIES:Excursion,NORDQUA
ATTACH;FMTTYPE=image/png:https://nordqua.org/wp-content/uploads/2022/02/NORDQUA_Logo_Small_white.png
ORGANIZER;CN="NORDQUA":MAILTO:secretariat@nordqua.org
END:VEVENT
BEGIN:VEVENT
DTSTART;VALUE=DATE:20260601
DTEND;VALUE=DATE:20260606
DTSTAMP:20260420T200543
CREATED:20260317T091559Z
LAST-MODIFIED:20260317T091559Z
UID:2476-1780272000-1780703999@nordqua.org
SUMMARY:HAAM summer school
DESCRIPTION:HAAM is an international and open community of researchers interested in studying human population history\, ancestry\, and mobility through ancient DNA. Our main goal is the open exchange of knowledge for the betterment of the field\, and to work together to overcome common challenges of human aDNA research. \nWe are organising a summer school targeted towards Ph.D. students and early career researchers. We will cover the latest methodological techniques from a theoretical and practical perspective. The school will be fully available online and free between June 1st and 5th\, 2026\, in the Central European Time Zone between 9 am to 5pm.
URL:https://nordqua.org/event/haam-summer-school/
LOCATION:Online
CATEGORIES:Course
ATTACH;FMTTYPE=image/webp:https://nordqua.org/wp-content/uploads/2026/03/HAAMsquare.webp
END:VEVENT
BEGIN:VEVENT
DTSTART;VALUE=DATE:20260623
DTEND;VALUE=DATE:20260627
DTSTAMP:20260420T200543
CREATED:20251002T142812Z
LAST-MODIFIED:20251002T142812Z
UID:2342-1782172800-1782518399@nordqua.org
SUMMARY:ICP 2026
DESCRIPTION:Abstracts submissions are now open for the International Conference on Palaeogenomics 2026! \nWe welcome contributions in a broad range of topics within palaeogenomics and ancient DNA research. Whether you’re an experienced scholar or early in your career\, ICP 2026 offers a platform to share your research and connect with an international community. All submissions will be peer-reviewed by our scientific committee to ensure a high-quality and engaging program. \nSubmission of abstracts deadline is November 30th and acceptance of abstracts will be confirmed on December 19th.
URL:https://nordqua.org/event/icp-2026/
LOCATION:Stockholm\, Sweden\, Sweden
CATEGORIES:Conference
ATTACH;FMTTYPE=image/png:https://nordqua.org/wp-content/uploads/2025/10/Logo_ICP2026_blue-300x270-1.png
END:VEVENT
BEGIN:VEVENT
DTSTART;VALUE=DATE:20260628
DTEND;VALUE=DATE:20260704
DTSTAMP:20260420T200543
CREATED:20260127T103237Z
LAST-MODIFIED:20260127T103657Z
UID:2428-1782604800-1783123199@nordqua.org
SUMMARY:STRATI 2026
DESCRIPTION:We are excited to invite the global stratigraphy community to STRATI 2026 – Exploring the Depths: Bridging Tradition and Innovation in Stratigraphy\, taking place from June 28 to July 3\, 2026\, at Suzhou in Jiangsu Province\, China. \nThe STRATI congress is the official meeting of the International Commission on Stratigraphy held between meetings of the International Geological Congress. STRATI meetings serve as a cornerstone of international stratigraphic research\, fostering dialogue and innovation across continents with a legacy rooted in Europe. As Earth science challenges and opportunities become increasingly interconnected\, STRATI 2026 represents a pivotal opportunity to enhance global cooperation. Hosting this edition in Suzhou reflects the International Commission on Stratigraphy’s (ICS) dedication to promoting inclusive worldwide scientific exchange and addressing shared priorities in stratigraphic research.
URL:https://nordqua.org/event/strati-2026/
LOCATION:Suzhou\, China
CATEGORIES:Conference
ATTACH;FMTTYPE=image/webp:https://nordqua.org/wp-content/uploads/2026/01/srati2026_logo.webp
END:VEVENT
BEGIN:VEVENT
DTSTART;VALUE=DATE:20260712
DTEND;VALUE=DATE:20260718
DTSTAMP:20260420T200543
CREATED:20260127T105154Z
LAST-MODIFIED:20260127T105154Z
UID:2454-1783814400-1784332799@nordqua.org
SUMMARY:International Symposium on Interactions of Ice Sheets and Glaciers with the Ocean
DESCRIPTION:The International Glaciological Society will hold an International Symposium on ‘Interactions of Glaciers and Ice Sheets with the Ocean’ – a subject of growing urgency and scientific relevance as ocean-driven mass loss continues to dominate the evolution of the Greenland and Antarctic ice sheets. Scripps Institution of Oceanography is an ideal location for this symposium\, as an oceanographic institution which also hosts a Polar Center. ‘IGS2026’ is the third in a series\, following successful symposia in 2011 and 2016.
URL:https://nordqua.org/event/international-symposium-on-interactions-of-ice-sheets-and-glaciers-with-the-ocean/
LOCATION:Scripps\, USA
CATEGORIES:Conference
ATTACH;FMTTYPE=image/jpeg:https://nordqua.org/wp-content/uploads/2026/01/FRISP-12-17-July-2026-logo.jpg
END:VEVENT
BEGIN:VEVENT
DTSTART;VALUE=DATE:20260808
DTEND;VALUE=DATE:20260820
DTSTAMP:20260420T200543
CREATED:20260127T103608Z
LAST-MODIFIED:20260127T103651Z
UID:2435-1786147200-1787183999@nordqua.org
SUMMARY:SCAR 2026
DESCRIPTION:The SCAR Open Science Conference is where the Antarctic research community comes together. Join colleagues and friends in Oslo for an exciting programme of talks\, workshops\, and social events that celebrate our shared passion for understanding the Antarctic region.
URL:https://nordqua.org/event/scar-2026/
LOCATION:Oslo\, Norway
CATEGORIES:Conference
ATTACH;FMTTYPE=image/png:https://nordqua.org/wp-content/uploads/2026/01/scar-conference-logo-full.png
END:VEVENT
BEGIN:VEVENT
DTSTART;VALUE=DATE:20260817
DTEND;VALUE=DATE:20260905
DTSTAMP:20260420T200543
CREATED:20251111T100800Z
LAST-MODIFIED:20251111T100800Z
UID:2387-1786924800-1788566399@nordqua.org
SUMMARY:Analytical Paleobiology School 2026
DESCRIPTION:Our 3-week school aims to introduce graduate students (preferably PhD candidates\, masters with exception) to a range of analytical methods that are foundational to or at the cutting edge of paleobiological research.
URL:https://nordqua.org/event/analytical-paleobiology-school-2026/
LOCATION:Erlangen\, Germany
CATEGORIES:Course
ATTACH;FMTTYPE=image/png:https://nordqua.org/wp-content/uploads/2025/01/FAU_logo.png
END:VEVENT
BEGIN:VEVENT
DTSTART;VALUE=DATE:20260824
DTEND;VALUE=DATE:20260829
DTSTAMP:20260420T200543
CREATED:20260127T104407Z
LAST-MODIFIED:20260127T104407Z
UID:2440-1787529600-1787961599@nordqua.org
SUMMARY:Global Glacier Modelling Workshop
DESCRIPTION:The workshop will be a collegial meeting for glacier modellers and users working at regional to global scales. It will include a dedicated session providing an update on the 4th phase of the Glacier Model Intercomparison Project (GlacierMIP4) and will also mark the 10th anniversary of the first OGGM workshop in the same location\, which we plan to celebrate. \n\nFebruary 2026 — Call for abstracts & registration opens\nMarch 2026 — Participants informed of acceptance\nApril 2026 — Waiting list notifications (if needed)\nMay 2026 — First programme draft published\nAugust 2026 — Workshop!
URL:https://nordqua.org/event/global-glacier-modelling-workshop/
LOCATION:Obergurgl\, Austria
CATEGORIES:Workshop
ATTACH;FMTTYPE=image/webp:https://nordqua.org/wp-content/uploads/2026/01/oggm_logo.webp
END:VEVENT
BEGIN:VEVENT
DTSTART;VALUE=DATE:20260907
DTEND;VALUE=DATE:20260912
DTSTAMP:20260420T200543
CREATED:20250930T123504Z
LAST-MODIFIED:20250930T123504Z
UID:2337-1788739200-1789171199@nordqua.org
SUMMARY:ICYMARE 2026
DESCRIPTION:The “International Conference for YOUNG Marine Researchers – ICYMARE” is organized voluntarily by and for young marine researchers. The conference is an event of the “Bremen Society for Natural Sciences”. Additionally\, we get organizational support by the hosting marine science universities and institutes which will change yearly among northern Germany.
URL:https://nordqua.org/event/icymare-2026/
LOCATION:Bremen\, Germany
CATEGORIES:Conference
ATTACH;FMTTYPE=image/png:https://nordqua.org/wp-content/uploads/2025/09/ICYMARE_Logo.png
END:VEVENT
BEGIN:VEVENT
DTSTART;VALUE=DATE:20261011
DTEND;VALUE=DATE:20261017
DTSTAMP:20260420T200543
CREATED:20260127T104629Z
LAST-MODIFIED:20260127T104629Z
UID:2444-1791676800-1792195199@nordqua.org
SUMMARY:International Partnerships in Ice Core Sciences (IPICS) 2026
DESCRIPTION:To facilitate international collaboration\, IPICS holds open science conferences quadrennially since 2012\, with the location moving between nations for each meeting. The North American ice core community is pleased to host the next IPICS open science conference\, recognizing both the 75+ year history of North American ice core drilling and the ever more critical need for international partnerships.
URL:https://nordqua.org/event/international-partnerships-in-ice-core-sciences-ipics-2026/
LOCATION:Alberta\, Canada
CATEGORIES:Conference
ATTACH;FMTTYPE=image/webp:https://nordqua.org/wp-content/uploads/2026/01/IPICS_logo.webp
END:VEVENT
BEGIN:VEVENT
DTSTART;VALUE=DATE:20261208
DTEND;VALUE=DATE:20261212
DTSTAMP:20260420T200543
CREATED:20260127T102909Z
LAST-MODIFIED:20260127T103316Z
UID:2423-1796688000-1797033599@nordqua.org
SUMMARY:Palaeontological Association Meeting 2026
DESCRIPTION:📌 Mark your calendars\, spread the word\, and keep an eye out 👀 — more details coming soon! 🚀
URL:https://nordqua.org/event/palaeontological-association-meeting-2026/
LOCATION:Oxford\, UK
CATEGORIES:Conference
ATTACH;FMTTYPE=image/webp:https://nordqua.org/wp-content/uploads/2026/01/palass-logo.webp
END:VEVENT
BEGIN:VEVENT
DTSTART;VALUE=DATE:20270128
DTEND;VALUE=DATE:20270204
DTSTAMP:20260420T200543
CREATED:20260127T105508Z
LAST-MODIFIED:20260127T105703Z
UID:2458-1801094400-1801699199@nordqua.org
SUMMARY:XXII INQUA 2027
DESCRIPTION:This congress focuses on delivering practical\, science-based insights for global wellbeing and the security of food\, water\, health\, environment\, and shelter. India offers an exceptional natural laboratory for Quaternary studies\, with remarkable geological and climatic diversity. From high mountains\, active glaciers\, and major river basins to lakes\, lagoons\, mangroves\, and deltas\, the country hosts a wide range of Earth systems. \nAbstract submission deadline: 15th Feb 2026
URL:https://nordqua.org/event/xxii-inqua-2027/
LOCATION:Lucknow\, India
CATEGORIES:Conference,Excursion
ATTACH;FMTTYPE=image/jpeg:https://nordqua.org/wp-content/uploads/2026/01/inqua2027.jpg
END:VEVENT
BEGIN:VEVENT
DTSTART;VALUE=DATE:20270716
DTEND;VALUE=DATE:20270723
DTSTAMP:20260420T200543
CREATED:20260127T104938Z
LAST-MODIFIED:20260127T104938Z
UID:2449-1815696000-1816300799@nordqua.org
SUMMARY:International Union of Geodesy and Geophysics 2027
DESCRIPTION:We warmly invite you to the 29th lUGG General Assembly\, to be held from 16 to 22 July 2027 in Incheon\, Republic of Korea. This Assembly will bring together participants from around the world\, offering an invaluable opportunity to engage in discussions across all fields of physical Earth sciences\, including ocean and atmosphere\, as well as engineering and chemistry; and to strengthen research and collaboration that advance our understanding of the Earth system and its environment.
URL:https://nordqua.org/event/international-union-of-geodesy-and-geophysics-2027/
LOCATION:Incheon\, Korea
CATEGORIES:Conference
ATTACH;FMTTYPE=image/png:https://nordqua.org/wp-content/uploads/2026/01/iugg_logo.png
END:VEVENT
END:VCALENDAR