BEGIN:VCALENDAR
VERSION:2.0
PRODID:-//NORDQUA - ECPv6.15.20//NONSGML v1.0//EN
CALSCALE:GREGORIAN
METHOD:PUBLISH
X-WR-CALNAME:NORDQUA
X-ORIGINAL-URL:https://nordqua.org
X-WR-CALDESC:Events for NORDQUA
REFRESH-INTERVAL;VALUE=DURATION:PT1H
X-Robots-Tag:noindex
X-PUBLISHED-TTL:PT1H
BEGIN:VTIMEZONE
TZID:Europe/London
BEGIN:DAYLIGHT
TZOFFSETFROM:+0000
TZOFFSETTO:+0100
TZNAME:BST
DTSTART:20210328T010000
END:DAYLIGHT
BEGIN:STANDARD
TZOFFSETFROM:+0100
TZOFFSETTO:+0000
TZNAME:GMT
DTSTART:20211031T010000
END:STANDARD
BEGIN:DAYLIGHT
TZOFFSETFROM:+0000
TZOFFSETTO:+0100
TZNAME:BST
DTSTART:20220327T010000
END:DAYLIGHT
BEGIN:STANDARD
TZOFFSETFROM:+0100
TZOFFSETTO:+0000
TZNAME:GMT
DTSTART:20221030T010000
END:STANDARD
BEGIN:DAYLIGHT
TZOFFSETFROM:+0000
TZOFFSETTO:+0100
TZNAME:BST
DTSTART:20230326T010000
END:DAYLIGHT
BEGIN:STANDARD
TZOFFSETFROM:+0100
TZOFFSETTO:+0000
TZNAME:GMT
DTSTART:20231029T010000
END:STANDARD
END:VTIMEZONE
BEGIN:VTIMEZONE
TZID:Atlantic/Reykjavik
BEGIN:STANDARD
TZOFFSETFROM:+0000
TZOFFSETTO:+0000
TZNAME:GMT
DTSTART:20210101T000000
END:STANDARD
END:VTIMEZONE
BEGIN:VEVENT
DTSTART;VALUE=DATE:20220516
DTEND;VALUE=DATE:20220521
DTSTAMP:20260417T004256
CREATED:20220112T104730Z
LAST-MODIFIED:20220112T111541Z
UID:596-1652659200-1653091199@nordqua.org
SUMMARY:6th PAGES Open Science Meeting
DESCRIPTION:The PAGES Open Science Meeting (OSM) is a PAGES flagship event held approximately every four years and is a much anticipated fixture on the paleoscience calendar.\n31 January\, 23:59 UTC: OSM abstract submission deadline\n15 March: Acceptance/rejection decision for OSM abstracts\, posters/oral presentations
URL:https://nordqua.org/event/6th-pages-open-science-meeting/
LOCATION:Virtual
CATEGORIES:Conference
ATTACH;FMTTYPE=image/png:https://nordqua.org/wp-content/uploads/2022/01/Logo_PAGES_OSM_2022.png
END:VEVENT
BEGIN:VEVENT
DTSTART;VALUE=DATE:20220514
DTEND;VALUE=DATE:20220515
DTSTAMP:20260417T004256
CREATED:20211231T201822Z
LAST-MODIFIED:20220227T132906Z
UID:512-1652486400-1652572799@nordqua.org
SUMMARY:NORDQUA field excursion 2022
DESCRIPTION:Late Glacial glaciotectonics and marine limit shorelines of the Lower Borgarfjörður region\, West Iceland.\nThe Lower Borgarfjörður region in West Iceland has been key for understanding the deglaciation of Iceland and the collapse of the Iceland Ice Sheet in Bølling times\, as well as for deciphering Younger Dryas and Early Holocene (Preboreal) glacier dynamics. The excursion will visit marine limit shorelines and deltas in Akrafjall and Skorradalur\, the spectacular Skorholtsmelar end-moraine complex\, and the glaciotectonics of the Melabakkar-Ásbakkar coastal cliffs. \nSign-up: https://jfi.is/ngwm-2022/#excursions
URL:https://nordqua.org/event/nordqua-field-excursion-2022/
LOCATION:Lower Borgarfjörður\, Iceland\, Iceland
CATEGORIES:Excursion,NORDQUA
ATTACH;FMTTYPE=image/jpeg:https://nordqua.org/wp-content/uploads/2021/12/DSCF5221-scaled.jpg
ORGANIZER;CN="NORDQUA":MAILTO:secretariat@nordqua.org
END:VEVENT
BEGIN:VEVENT
DTSTART;TZID=Atlantic/Reykjavik:20220512T113000
DTEND;TZID=Atlantic/Reykjavik:20220512T123000
DTSTAMP:20260417T004256
CREATED:20220507T151108Z
LAST-MODIFIED:20220508T183729Z
UID:1162-1652355000-1652358600@nordqua.org
SUMMARY:NORDQUA General Meeting
DESCRIPTION:To be held in the Institute of Earth Sciences at the 3rd floor of Askja (same building as the NWGM ice breaker)\, 11:30 – 12:30 local time. \n\nThis is an open discussion meeting for exisiting\, new\, and prospective members.\nWe will report on activities since the NGWM2020 and our future plans for the network. There will also be new stickers!\nWe welcome your feedback. If you have an agenda item for the general meeting\, please get in touch via email (secretariat@nordqua.org).
URL:https://nordqua.org/event/nordqua-general-meeting/
LOCATION:Reykjavík\, Iceland\, Iceland
CATEGORIES:Meeting,NORDQUA
ATTACH;FMTTYPE=image/png:https://nordqua.org/wp-content/uploads/2022/02/cropped-NORDQUA_Logo_Small_white.png
ORGANIZER;CN="NORDQUA":MAILTO:secretariat@nordqua.org
END:VEVENT
BEGIN:VEVENT
DTSTART;TZID=Atlantic/Reykjavik:20220511T200000
DTEND;TZID=Atlantic/Reykjavik:20220511T220000
DTSTAMP:20260417T004256
CREATED:20220507T151501Z
LAST-MODIFIED:20220507T151501Z
UID:1165-1652299200-1652306400@nordqua.org
SUMMARY:NORDQUA social
DESCRIPTION:We have booked the rooftop bar at the Loft Hostel\, in central Reykjavik from 2000 – 2200. We hope to see you there 🙂 \nIt’s located at the end of Reykjavík’s main shopping street\, Bankastræti 7\,  and within 5 minutes walking distance from Hallgrímskirkja (the City Cathedral)\, the City Pond and Harpa Concert Hall.
URL:https://nordqua.org/event/nordqua-social/
LOCATION:Reykjavík\, Iceland\, Iceland
CATEGORIES:NORDQUA,Social
ATTACH;FMTTYPE=image/png:https://nordqua.org/wp-content/uploads/2022/02/cropped-NORDQUA_Logo_Small_white.png
ORGANIZER;CN="NORDQUA":MAILTO:secretariat@nordqua.org
END:VEVENT
BEGIN:VEVENT
DTSTART;VALUE=DATE:20220511
DTEND;VALUE=DATE:20220514
DTSTAMP:20260417T004256
CREATED:20211231T200510Z
LAST-MODIFIED:20220302T081058Z
UID:501-1652227200-1652486399@nordqua.org
SUMMARY:35th Nordic Geological Winter Meeting
DESCRIPTION:the 35th Nordic Geological Winter Meeting which will take place on May 11th – 13th on the the campus of the University of Iceland in Reykjavík. Abstract submission is extended until the 7th of March. Early Bird registration ends 1st of April.
URL:https://nordqua.org/event/35th-nordic-geological-winter-meeting/
LOCATION:Reykjavík\, Iceland\, Iceland
CATEGORIES:Conference
ATTACH;FMTTYPE=image/png:https://nordqua.org/wp-content/uploads/2021/12/jfipng.png
END:VEVENT
BEGIN:VEVENT
DTSTART;VALUE=DATE:20220509
DTEND;VALUE=DATE:20220514
DTSTAMP:20260417T004256
CREATED:20220112T111455Z
LAST-MODIFIED:20220112T111455Z
UID:605-1652054400-1652486399@nordqua.org
SUMMARY:4th PAGES Young Scientists Meeting
DESCRIPTION:The PAGES Young Scientists Meeting (YSM) is a PAGES flagship event for early-career researchers. It is held approximately every four years.\nAbout 80 early-career researchers will be chosen\, based on the quality of their application and suitability.
URL:https://nordqua.org/event/4th-pages-young-scientists-meeting/
LOCATION:Virtual
CATEGORIES:Conference
ATTACH;FMTTYPE=image/png:https://nordqua.org/wp-content/uploads/2022/01/Logo_PAGES_YSM_2022.png
END:VEVENT
BEGIN:VEVENT
DTSTART;VALUE=DATE:20220105
DTEND;VALUE=DATE:20220108
DTSTAMP:20260417T004256
CREATED:20211231T185816Z
LAST-MODIFIED:20220208T182234Z
UID:467-1641340800-1641599999@nordqua.org
SUMMARY:QRA Annual Conference 2022
DESCRIPTION:Quaternary Glaciations: Processes\, environments and reconstructions
URL:https://nordqua.org/event/qra-annual-conference-2022/
LOCATION:Virtual
CATEGORIES:Conference
END:VEVENT
END:VCALENDAR