BEGIN:VCALENDAR
VERSION:2.0
PRODID:-//NORDQUA - ECPv6.15.20//NONSGML v1.0//EN
CALSCALE:GREGORIAN
METHOD:PUBLISH
X-ORIGINAL-URL:https://nordqua.org
X-WR-CALDESC:Events for NORDQUA
REFRESH-INTERVAL;VALUE=DURATION:PT1H
X-Robots-Tag:noindex
X-PUBLISHED-TTL:PT1H
BEGIN:VTIMEZONE
TZID:Europe/London
BEGIN:DAYLIGHT
TZOFFSETFROM:+0000
TZOFFSETTO:+0100
TZNAME:BST
DTSTART:20210328T010000
END:DAYLIGHT
BEGIN:STANDARD
TZOFFSETFROM:+0100
TZOFFSETTO:+0000
TZNAME:GMT
DTSTART:20211031T010000
END:STANDARD
BEGIN:DAYLIGHT
TZOFFSETFROM:+0000
TZOFFSETTO:+0100
TZNAME:BST
DTSTART:20220327T010000
END:DAYLIGHT
BEGIN:STANDARD
TZOFFSETFROM:+0100
TZOFFSETTO:+0000
TZNAME:GMT
DTSTART:20221030T010000
END:STANDARD
BEGIN:DAYLIGHT
TZOFFSETFROM:+0000
TZOFFSETTO:+0100
TZNAME:BST
DTSTART:20230326T010000
END:DAYLIGHT
BEGIN:STANDARD
TZOFFSETFROM:+0100
TZOFFSETTO:+0000
TZNAME:GMT
DTSTART:20231029T010000
END:STANDARD
END:VTIMEZONE
BEGIN:VEVENT
DTSTART;VALUE=DATE:20220612
DTEND;VALUE=DATE:20220617
DTSTAMP:20260423T185923
CREATED:20220110T080905Z
LAST-MODIFIED:20220112T104819Z
UID:589-1654992000-1655423999@nordqua.org
SUMMARY:9th International Conference ​on Arctic Margins
DESCRIPTION:ICAM scientific themes include: Geology and Geophysics; Mapping; Remote Sensing; Plate Tectonics; Climate\, and studies that are related to Article 76 of the United Nations Convention on the Law of the Sea (UNCLOS). The ICAM 9 Technical Program is the result of a community effort\, and it includes a Special Session on the Communication of Science.
URL:https://nordqua.org/event/9th-international-conference-%e2%80%8bon-arctic-margins/
LOCATION:Ottowa\, Canada
CATEGORIES:Conference
ATTACH;FMTTYPE=image/png:https://nordqua.org/wp-content/uploads/2022/01/icam-logo.png
END:VEVENT
BEGIN:VEVENT
DTSTART;VALUE=DATE:20220619
DTEND;VALUE=DATE:20220624
DTSTAMP:20260423T185923
CREATED:20211231T194729Z
LAST-MODIFIED:20220325T090632Z
UID:487-1655596800-1656028799@nordqua.org
SUMMARY:51st International Arctic Workshop
DESCRIPTION:Optional post conference two-day excursion – 24th – 25th June \nAll Registration and Abstract Deadlines Monday 16th May\nThe International Arctic Workshop is a friendly\, informal\, and relaxed conference open to all students and professionals interested in the Arctic. Originally starting at INSTAAR at the University of Colorado – Boulder\, the Arctic Workshop alternates between INSTAAR and an international host. This year\, and for the first time in the High Arctic\, the Svalbard Science Centre is hosting the meeting in Longyearbyen\, Svalbard\, Norway. \nAll those interested in Arctic science are invited to attend. The meeting is based around a series of talks and poster sessions covering all aspects of high-latitude environments\, with a conference banquet\, mid conference field excursion\, and an optional post-conference excursion in Spirtsbergen’s Isfjorden. Past Arctic Workshops have included presentations on arctic climate\, glaciology\, environmental geochemistry\, geomorphology\, hydrology\, soils\, ecology\, oceanography\, Quaternary history\, archaeology and more. Arctic palaeoenvironments\, terrestrial and marine\, have traditionally been at the centre of the Arctic Workshop.
URL:https://nordqua.org/event/51st-international-arctic-workshop/
LOCATION:UNIS\, Svalbard\, Longyearbyen\, Svalbard and Jan Mayen Islands
CATEGORIES:Conference
ATTACH;FMTTYPE=image/png:https://nordqua.org/wp-content/uploads/2021/12/unis.png
END:VEVENT
BEGIN:VEVENT
DTSTART;VALUE=DATE:20220628
DTEND;VALUE=DATE:20220702
DTSTAMP:20260423T185923
CREATED:20211231T195622Z
LAST-MODIFIED:20211231T203426Z
UID:495-1656374400-1656719999@nordqua.org
SUMMARY:Peribaltic Youth Symposium
DESCRIPTION:Geomorphology in Quaternary Research
URL:https://nordqua.org/event/peribaltic-youth-symposium/
LOCATION:Władysławowo\, Poland\, Poland
CATEGORIES:Conference
END:VEVENT
END:VCALENDAR