BEGIN:VCALENDAR
VERSION:2.0
PRODID:-//NORDQUA - ECPv6.15.20//NONSGML v1.0//EN
CALSCALE:GREGORIAN
METHOD:PUBLISH
X-WR-CALNAME:NORDQUA
X-ORIGINAL-URL:https://nordqua.org
X-WR-CALDESC:Events for NORDQUA
REFRESH-INTERVAL;VALUE=DURATION:PT1H
X-Robots-Tag:noindex
X-PUBLISHED-TTL:PT1H
BEGIN:VTIMEZONE
TZID:Europe/Oslo
BEGIN:DAYLIGHT
TZOFFSETFROM:+0100
TZOFFSETTO:+0200
TZNAME:CEST
DTSTART:20220327T010000
END:DAYLIGHT
BEGIN:STANDARD
TZOFFSETFROM:+0200
TZOFFSETTO:+0100
TZNAME:CET
DTSTART:20221030T010000
END:STANDARD
BEGIN:DAYLIGHT
TZOFFSETFROM:+0100
TZOFFSETTO:+0200
TZNAME:CEST
DTSTART:20230326T010000
END:DAYLIGHT
BEGIN:STANDARD
TZOFFSETFROM:+0200
TZOFFSETTO:+0100
TZNAME:CET
DTSTART:20231029T010000
END:STANDARD
BEGIN:DAYLIGHT
TZOFFSETFROM:+0100
TZOFFSETTO:+0200
TZNAME:CEST
DTSTART:20240331T010000
END:DAYLIGHT
BEGIN:STANDARD
TZOFFSETFROM:+0200
TZOFFSETTO:+0100
TZNAME:CET
DTSTART:20241027T010000
END:STANDARD
END:VTIMEZONE
BEGIN:VEVENT
DTSTART;VALUE=DATE:20230827
DTEND;VALUE=DATE:20230831
DTSTAMP:20260422T175411
CREATED:20221208T102950Z
LAST-MODIFIED:20230228T100821Z
UID:1316-1693094400-1693439999@nordqua.org
SUMMARY:PalaeoArc 2023
DESCRIPTION:4th International PalaeoArc Conference on «Processes and Palaeo-environmental changes in the Arctic: from past to present” will be held in Iceland 2023. \nAbstract deadline: 15th March 2023 \nThe NORDQUA excursion is organized in connection and will directly follow the conference
URL:https://nordqua.org/event/palaeoarc-2023/
LOCATION:Akureyri\, Iceland
CATEGORIES:Conference
ATTACH;FMTTYPE=image/jpeg:https://nordqua.org/wp-content/uploads/2022/12/278096754_680460876607496_1029627684689567086_n.jpg
END:VEVENT
BEGIN:VEVENT
DTSTART;VALUE=DATE:20230831
DTEND;VALUE=DATE:20230903
DTSTAMP:20260422T175411
CREATED:20230119T101025Z
LAST-MODIFIED:20230228T100845Z
UID:1352-1693440000-1693699199@nordqua.org
SUMMARY:NORDQUA excursion 2023
DESCRIPTION:The 2023 NORDQUA excursion will be run in northern Iceland 31st August – 2nd September. All NORDQUA members are most welcome and encouraged to attend!\nThe excursion is organized in connection with and will directly follow the 4th International PalaeoArc Conference\, which will take place in Akureyri\, north Iceland\, 27-30th August\, 2023.
URL:https://nordqua.org/event/nordqua-excursion-2023/
LOCATION:Akureyri\, Iceland
CATEGORIES:Excursion,NORDQUA
ATTACH;FMTTYPE=image/png:https://nordqua.org/wp-content/uploads/2022/02/cropped-NORDQUA_Logo_Small_white.png
ORGANIZER;CN="NORDQUA":MAILTO:secretariat@nordqua.org
END:VEVENT
END:VCALENDAR