BEGIN:VCALENDAR
VERSION:2.0
PRODID:-//NORDQUA - ECPv6.15.20//NONSGML v1.0//EN
CALSCALE:GREGORIAN
METHOD:PUBLISH
X-WR-CALNAME:NORDQUA
X-ORIGINAL-URL:https://nordqua.org
X-WR-CALDESC:Events for NORDQUA
REFRESH-INTERVAL;VALUE=DURATION:PT1H
X-Robots-Tag:noindex
X-PUBLISHED-TTL:PT1H
BEGIN:VTIMEZONE
TZID:Europe/Oslo
BEGIN:DAYLIGHT
TZOFFSETFROM:+0100
TZOFFSETTO:+0200
TZNAME:CEST
DTSTART:20220327T010000
END:DAYLIGHT
BEGIN:STANDARD
TZOFFSETFROM:+0200
TZOFFSETTO:+0100
TZNAME:CET
DTSTART:20221030T010000
END:STANDARD
BEGIN:DAYLIGHT
TZOFFSETFROM:+0100
TZOFFSETTO:+0200
TZNAME:CEST
DTSTART:20230326T010000
END:DAYLIGHT
BEGIN:STANDARD
TZOFFSETFROM:+0200
TZOFFSETTO:+0100
TZNAME:CET
DTSTART:20231029T010000
END:STANDARD
BEGIN:DAYLIGHT
TZOFFSETFROM:+0100
TZOFFSETTO:+0200
TZNAME:CEST
DTSTART:20240331T010000
END:DAYLIGHT
BEGIN:STANDARD
TZOFFSETFROM:+0200
TZOFFSETTO:+0100
TZNAME:CET
DTSTART:20241027T010000
END:STANDARD
END:VTIMEZONE
BEGIN:VEVENT
DTSTART;VALUE=DATE:20231031
DTEND;VALUE=DATE:20231102
DTSTAMP:20260422T114145
CREATED:20230920T121105Z
LAST-MODIFIED:20230920T121105Z
UID:1606-1698710400-1698883199@nordqua.org
SUMMARY:Svalbard Science Conference 2023
DESCRIPTION:The SSC2023 will be held at Scandic Fornebu\, Oslo 31 October-1 November 2023. Svalbard Science Forum (SSF) coordinates information about infrastructure and activities in Svalbard. It facilitates coordination\, collaboration and data sharing between researchers\, and averts unnecessary duplication and encourages a smaller environmental footprint from research in Svalbard.
URL:https://nordqua.org/event/svalbard-science-conference-2023/
LOCATION:Oslo\, Norway
CATEGORIES:Conference
ATTACH;FMTTYPE=image/webp:https://nordqua.org/wp-content/uploads/2023/09/profilbilde-ssc_lettere.webp
END:VEVENT
BEGIN:VEVENT
DTSTART;VALUE=DATE:20231102
DTEND;VALUE=DATE:20231103
DTSTAMP:20260422T114145
CREATED:20230920T121640Z
LAST-MODIFIED:20230920T121640Z
UID:1615-1698883200-1698969599@nordqua.org
SUMMARY:Shaping the future of polar research data
DESCRIPTION:The second workshop is on Thursday 2nd November and is hosted by APECS in collaboration with the Svalbard Integrated Observing System (SIOS) entitled “Shaping the future of polar research data” and will be held at Scandic Fornebu\, beginning with informal networking activities\, followed by a theoretical component focusing on data management with an emphasis on the FAIR data principles.
URL:https://nordqua.org/event/shaping-the-future-of-polar-research-data/
LOCATION:Oslo\, Norway
CATEGORIES:Workshop
ATTACH;FMTTYPE=image/png:https://nordqua.org/wp-content/uploads/2023/09/apecs.png
END:VEVENT
BEGIN:VEVENT
DTSTART;VALUE=DATE:20231107
DTEND;VALUE=DATE:20231110
DTSTAMP:20260422T114145
CREATED:20221104T123327Z
LAST-MODIFIED:20221104T123327Z
UID:1300-1699315200-1699574399@nordqua.org
SUMMARY:The Nansen Legacy Symposium
DESCRIPTION:The Nansen Legacy project invites the Arctic research community to the international symposium in Tromsø\, Norway\, 7-9 November 2023. \nWe welcome contributions and discussions across Earth system science to shed light on and reveal both regional characteristics\, connections and pan-Arctic responses. Join with contributions and discussions on how the Arctic Ocean is changing and what it will look like in the near future. \nSix sessions with oral and poster presentations will provide disciplinary focus across regions\, and regional focus across disciplines. While the Nansen Legacy project has focused on the rapidly changing northern Barents Sea shelf and adjacent Arctic Basin\, we strive for participation representing the Pan-Arctic heterogeneity to exchange knowledge and to connect science\, regions\, and humans.
URL:https://nordqua.org/event/the-nansen-legacy-symposium/
LOCATION:Tromsø\, Norway
CATEGORIES:Conference
ATTACH;FMTTYPE=image/png:https://nordqua.org/wp-content/uploads/2022/11/NansenLegacy_Logo_symposium_small.png
END:VEVENT
BEGIN:VEVENT
DTSTART;VALUE=DATE:20231115
DTEND;VALUE=DATE:20231118
DTSTAMP:20260422T114145
CREATED:20230911T101159Z
LAST-MODIFIED:20230911T101159Z
UID:1457-1700006400-1700265599@nordqua.org
SUMMARY:The Micropalaeontological Society Annual Conference 2023
DESCRIPTION:Bridging the Gap: Connecting microfossil groups\, environmental systems and people\nNational Oceanography Centre | University of Southampton Waterfront Campus & Online
URL:https://nordqua.org/event/the-micropalaeontological-society-annual-conference-2023/
LOCATION:Southampton\, UK
CATEGORIES:Conference
ATTACH;FMTTYPE=image/png:https://nordqua.org/wp-content/uploads/2023/09/TMS-AM2023-logo-2.png
END:VEVENT
END:VCALENDAR