BEGIN:VCALENDAR
VERSION:2.0
PRODID:-//NORDQUA - ECPv6.15.20//NONSGML v1.0//EN
CALSCALE:GREGORIAN
METHOD:PUBLISH
X-WR-CALNAME:NORDQUA
X-ORIGINAL-URL:https://nordqua.org
X-WR-CALDESC:Events for NORDQUA
REFRESH-INTERVAL;VALUE=DURATION:PT1H
X-Robots-Tag:noindex
X-PUBLISHED-TTL:PT1H
BEGIN:VTIMEZONE
TZID:Europe/Oslo
BEGIN:DAYLIGHT
TZOFFSETFROM:+0100
TZOFFSETTO:+0200
TZNAME:CEST
DTSTART:20220327T010000
END:DAYLIGHT
BEGIN:STANDARD
TZOFFSETFROM:+0200
TZOFFSETTO:+0100
TZNAME:CET
DTSTART:20221030T010000
END:STANDARD
BEGIN:DAYLIGHT
TZOFFSETFROM:+0100
TZOFFSETTO:+0200
TZNAME:CEST
DTSTART:20230326T010000
END:DAYLIGHT
BEGIN:STANDARD
TZOFFSETFROM:+0200
TZOFFSETTO:+0100
TZNAME:CET
DTSTART:20231029T010000
END:STANDARD
BEGIN:DAYLIGHT
TZOFFSETFROM:+0100
TZOFFSETTO:+0200
TZNAME:CEST
DTSTART:20240331T010000
END:DAYLIGHT
BEGIN:STANDARD
TZOFFSETFROM:+0200
TZOFFSETTO:+0100
TZNAME:CET
DTSTART:20241027T010000
END:STANDARD
END:VTIMEZONE
BEGIN:VEVENT
DTSTART;VALUE=DATE:20231211
DTEND;VALUE=DATE:20231216
DTSTAMP:20260422T095325
CREATED:20231205T103052Z
LAST-MODIFIED:20231205T103052Z
UID:1665-1702252800-1702684799@nordqua.org
SUMMARY:AGU Annual Meeting 2023
DESCRIPTION:This year\, as we convene >25\,000 attendees from 100+ countries in San Francisco for AGU23\, our theme is: Wide. Open. Science. 2023 might be the official year of Open Science but we also see it as an opportunity to affirm AGU’s overarching values and beliefs.  It is a message for all of us to carry as we come together to share\, inspire\, collaborate\, engage and most of all rededicate ourselves as a united community grounded in wide open science.
URL:https://nordqua.org/event/agu-annual-meeting-2023/
LOCATION:San Francisco\, USA
CATEGORIES:Conference
ATTACH;FMTTYPE=image/webp:https://nordqua.org/wp-content/uploads/2023/12/agu_logo_h_rgb_590x117.webp
END:VEVENT
END:VCALENDAR