BEGIN:VCALENDAR
VERSION:2.0
PRODID:-//NORDQUA - ECPv6.15.20//NONSGML v1.0//EN
CALSCALE:GREGORIAN
METHOD:PUBLISH
X-WR-CALNAME:NORDQUA
X-ORIGINAL-URL:https://nordqua.org
X-WR-CALDESC:Events for NORDQUA
REFRESH-INTERVAL;VALUE=DURATION:PT1H
X-Robots-Tag:noindex
X-PUBLISHED-TTL:PT1H
BEGIN:VTIMEZONE
TZID:Europe/Oslo
BEGIN:DAYLIGHT
TZOFFSETFROM:+0100
TZOFFSETTO:+0200
TZNAME:CEST
DTSTART:20230326T010000
END:DAYLIGHT
BEGIN:STANDARD
TZOFFSETFROM:+0200
TZOFFSETTO:+0100
TZNAME:CET
DTSTART:20231029T010000
END:STANDARD
BEGIN:DAYLIGHT
TZOFFSETFROM:+0100
TZOFFSETTO:+0200
TZNAME:CEST
DTSTART:20240331T010000
END:DAYLIGHT
BEGIN:STANDARD
TZOFFSETFROM:+0200
TZOFFSETTO:+0100
TZNAME:CET
DTSTART:20241027T010000
END:STANDARD
BEGIN:DAYLIGHT
TZOFFSETFROM:+0100
TZOFFSETTO:+0200
TZNAME:CEST
DTSTART:20250330T010000
END:DAYLIGHT
BEGIN:STANDARD
TZOFFSETFROM:+0200
TZOFFSETTO:+0100
TZNAME:CET
DTSTART:20251026T010000
END:STANDARD
END:VTIMEZONE
BEGIN:VEVENT
DTSTART;VALUE=DATE:20240104
DTEND;VALUE=DATE:20240108
DTSTAMP:20260422T075645
CREATED:20230706T092448Z
LAST-MODIFIED:20231113T085203Z
UID:1409-1704326400-1704671999@nordqua.org
SUMMARY:QRA 60th Anniversary Annual Discussion Meeting
DESCRIPTION:For the 2024 QRA Annual Discussion Meeting\, we aim to bring together researchers from all areas of Quaternary Science to celebrate this significant anniversary. The meeting theme\, Changing Resolutions in Quaternary Science\, has been chosen to encourage contributions from all areas of Quaternary research.  We welcome contributions relating to multiple concepts of ‘changing resolutions’; from advances in measurement precision\, data resolution\, and timescales through to a consideration of the changing practice of Quaternary research. For example\, this could include  changing resolution(s) in: \n\nDating techniques and their application\nStratigraphic records\, including annually laminated records of all types (lake and marine sediments\, ice cores\, tree rings\, speleothems\, shells etc.)\nImagery on all scales\, from Digital Elevation Models to electron microscopy\nDetection and analysis of all types of materials\, from DNA to biomarkers to elemental analyses\nUnderstanding of barriers to inclusion in Quaternary research.
URL:https://nordqua.org/event/qra-60th-anniversary-annual-discussion-meeting/
LOCATION:Manchester\, UK
CATEGORIES:Conference
ATTACH;FMTTYPE=image/jpeg:https://nordqua.org/wp-content/uploads/2022/03/QRA-Logo-Outline-Black-for-website.jpg
END:VEVENT
BEGIN:VEVENT
DTSTART;VALUE=DATE:20240110
DTEND;VALUE=DATE:20240113
DTSTAMP:20260422T075645
CREATED:20230327T072335Z
LAST-MODIFIED:20230911T101441Z
UID:1372-1704844800-1705103999@nordqua.org
SUMMARY:Nordic Geological Winter Meeting 2024
DESCRIPTION:The deadline for abstract submission is October 7. \nFor the 36th time\, geologists from Denmark\, Finland\, Iceland\, Norway and Sweden will gather for the biennial Nordic Geological Winter Meeting. The meeting comes ‘back’ to Gothenburg where the very first NGWM was held in 1954\, and we are proud to bring the NGWM back home!
URL:https://nordqua.org/event/nordic-geological-winter-meeting-2024/
LOCATION:Gothenburg\, Sweden
CATEGORIES:Conference
ATTACH;FMTTYPE=image/png:https://nordqua.org/wp-content/uploads/2023/03/GF-NGWM36.png
END:VEVENT
BEGIN:VEVENT
DTSTART;VALUE=DATE:20240122
DTEND;VALUE=DATE:20240127
DTSTAMP:20260422T075645
CREATED:20231205T104609Z
LAST-MODIFIED:20231205T104609Z
UID:1678-1705881600-1706313599@nordqua.org
SUMMARY:SIOS Polar Night Week
DESCRIPTION:The Polar Night Week is an arena for exchange\, reflection and planning of future activities and creates a vibrant atmosphere in the middle of the beauty of the Polar Night. \nThis annual meeting brings the SIOS community together for science seminars\, working group meetings and plenary discussions. One of the highlights is the release of newest issue of the State of Environmental Science (SESS) report. \nThere is no charge for attending Polar Night Week for SIOS members\, but you will need to cover your own travel and accommodation costs\, as well as meals other than lunch and the conference dinner. If you come from a non-member institution please contact us for details about the participation fee.
URL:https://nordqua.org/event/sios-polar-night-week/
LOCATION:Longyearbyen\, Svalbard
CATEGORIES:Meeting
ATTACH;FMTTYPE=image/png:https://nordqua.org/wp-content/uploads/2023/12/SIOS_logo.png
END:VEVENT
END:VCALENDAR