BEGIN:VCALENDAR
VERSION:2.0
PRODID:-//NORDQUA - ECPv6.15.20//NONSGML v1.0//EN
CALSCALE:GREGORIAN
METHOD:PUBLISH
X-WR-CALNAME:NORDQUA
X-ORIGINAL-URL:https://nordqua.org
X-WR-CALDESC:Events for NORDQUA
REFRESH-INTERVAL;VALUE=DURATION:PT1H
X-Robots-Tag:noindex
X-PUBLISHED-TTL:PT1H
BEGIN:VTIMEZONE
TZID:Europe/Oslo
BEGIN:DAYLIGHT
TZOFFSETFROM:+0100
TZOFFSETTO:+0200
TZNAME:CEST
DTSTART:20230326T010000
END:DAYLIGHT
BEGIN:STANDARD
TZOFFSETFROM:+0200
TZOFFSETTO:+0100
TZNAME:CET
DTSTART:20231029T010000
END:STANDARD
BEGIN:DAYLIGHT
TZOFFSETFROM:+0100
TZOFFSETTO:+0200
TZNAME:CEST
DTSTART:20240331T010000
END:DAYLIGHT
BEGIN:STANDARD
TZOFFSETFROM:+0200
TZOFFSETTO:+0100
TZNAME:CET
DTSTART:20241027T010000
END:STANDARD
BEGIN:DAYLIGHT
TZOFFSETFROM:+0100
TZOFFSETTO:+0200
TZNAME:CEST
DTSTART:20250330T010000
END:DAYLIGHT
BEGIN:STANDARD
TZOFFSETFROM:+0200
TZOFFSETTO:+0100
TZNAME:CET
DTSTART:20251026T010000
END:STANDARD
END:VTIMEZONE
BEGIN:VEVENT
DTSTART;VALUE=DATE:20241022
DTEND;VALUE=DATE:20241026
DTSTAMP:20260421T151337
CREATED:20240423T073711Z
LAST-MODIFIED:20240423T073711Z
UID:1968-1729555200-1729900799@nordqua.org
SUMMARY:ArcSTRAT - Arctic Ocean Stratigraphic and Paleoclimate Conference
DESCRIPTION:ArcSTRAT will bring together scientists from all around the world to discuss the constraints to date and correlate past climate archives from across the Arctic Ocean. Do you want to be part of this discussion?Join us in Tromsø\, 22 – 25 October 2024
URL:https://nordqua.org/event/arcstrat-arctic-ocean-stratigraphic-and-paleoclimate-conference/
LOCATION:Tromsø\, Norway
CATEGORIES:Conference
ATTACH;FMTTYPE=image/png:https://nordqua.org/wp-content/uploads/2024/04/geologi_weblogo-1.png
END:VEVENT
END:VCALENDAR