BEGIN:VCALENDAR
VERSION:2.0
PRODID:-//NORDQUA - ECPv6.15.20//NONSGML v1.0//EN
CALSCALE:GREGORIAN
METHOD:PUBLISH
X-ORIGINAL-URL:https://nordqua.org
X-WR-CALDESC:Events for NORDQUA
REFRESH-INTERVAL;VALUE=DURATION:PT1H
X-Robots-Tag:noindex
X-PUBLISHED-TTL:PT1H
BEGIN:VTIMEZONE
TZID:Europe/Oslo
BEGIN:DAYLIGHT
TZOFFSETFROM:+0100
TZOFFSETTO:+0200
TZNAME:CEST
DTSTART:20230326T010000
END:DAYLIGHT
BEGIN:STANDARD
TZOFFSETFROM:+0200
TZOFFSETTO:+0100
TZNAME:CET
DTSTART:20231029T010000
END:STANDARD
BEGIN:DAYLIGHT
TZOFFSETFROM:+0100
TZOFFSETTO:+0200
TZNAME:CEST
DTSTART:20240331T010000
END:DAYLIGHT
BEGIN:STANDARD
TZOFFSETFROM:+0200
TZOFFSETTO:+0100
TZNAME:CET
DTSTART:20241027T010000
END:STANDARD
BEGIN:DAYLIGHT
TZOFFSETFROM:+0100
TZOFFSETTO:+0200
TZNAME:CEST
DTSTART:20250330T010000
END:DAYLIGHT
BEGIN:STANDARD
TZOFFSETFROM:+0200
TZOFFSETTO:+0100
TZNAME:CET
DTSTART:20251026T010000
END:STANDARD
END:VTIMEZONE
BEGIN:VEVENT
DTSTART;VALUE=DATE:20241129
DTEND;VALUE=DATE:20241130
DTSTAMP:20260418T041507
CREATED:20241101T101654Z
LAST-MODIFIED:20241101T101755Z
UID:2113-1732838400-1732924799@nordqua.org
SUMMARY:IQUA Autumn Symposium 2024
DESCRIPTION:The theme of this year’s symposium will be “Peatlands: Past\, Present and Future”. Peatlands are recognised as a pivotal part of the landscape and have had a major impact on the development of culture\, history\, and science. Recent studies estimate that ~23% of Ireland’s Quaternary landscape can be considered as peat soils. These environments continue to be important for society as we face environmental challenges. In keeping with our theme we are delighted to announce our keynote speakers include Dave Beilman (University of Hawai’i at Mānoa)\, John Connolly (Trinity College Dublin) and Kate Flood (University College Dublin).
URL:https://nordqua.org/event/iqua-autumn-symposium-2024/
LOCATION:Dublin\, Ireland
CATEGORIES:Conference
ATTACH;FMTTYPE=image/png:https://nordqua.org/wp-content/uploads/2024/11/cropped-IQUAbanner-copy-1.png
END:VEVENT
END:VCALENDAR