BEGIN:VCALENDAR
VERSION:2.0
PRODID:-//NORDQUA - ECPv6.15.20//NONSGML v1.0//EN
CALSCALE:GREGORIAN
METHOD:PUBLISH
X-WR-CALNAME:NORDQUA
X-ORIGINAL-URL:https://nordqua.org
X-WR-CALDESC:Events for NORDQUA
REFRESH-INTERVAL;VALUE=DURATION:PT1H
X-Robots-Tag:noindex
X-PUBLISHED-TTL:PT1H
BEGIN:VTIMEZONE
TZID:Europe/Oslo
BEGIN:DAYLIGHT
TZOFFSETFROM:+0100
TZOFFSETTO:+0200
TZNAME:CEST
DTSTART:20240331T010000
END:DAYLIGHT
BEGIN:STANDARD
TZOFFSETFROM:+0200
TZOFFSETTO:+0100
TZNAME:CET
DTSTART:20241027T010000
END:STANDARD
BEGIN:DAYLIGHT
TZOFFSETFROM:+0100
TZOFFSETTO:+0200
TZNAME:CEST
DTSTART:20250330T010000
END:DAYLIGHT
BEGIN:STANDARD
TZOFFSETFROM:+0200
TZOFFSETTO:+0100
TZNAME:CET
DTSTART:20251026T010000
END:STANDARD
BEGIN:DAYLIGHT
TZOFFSETFROM:+0100
TZOFFSETTO:+0200
TZNAME:CEST
DTSTART:20260329T010000
END:DAYLIGHT
BEGIN:STANDARD
TZOFFSETFROM:+0200
TZOFFSETTO:+0100
TZNAME:CET
DTSTART:20261025T010000
END:STANDARD
END:VTIMEZONE
BEGIN:VEVENT
DTSTART;VALUE=DATE:20250704
DTEND;VALUE=DATE:20250713
DTSTAMP:20260420T231746
CREATED:20240829T095433Z
LAST-MODIFIED:20240829T095433Z
UID:2032-1751587200-1752364799@nordqua.org
SUMMARY:11th IAS International Summer School of Sedimentology
DESCRIPTION:NW Wales: 800 Ma of Earth History in 800 km2. From 4th – 12th July 2025 you will study various fluvial\, shallow-marine\, deep-marine\, carbonate\, and hydrothermal vent deposits\, as well as sub-recent glacial landforms. Applications from IAS student members are open until 30th November 2024.
URL:https://nordqua.org/event/11th-ias-international-summer-school-of-sedimentology/
LOCATION:Bangor\, Wales
CATEGORIES:Excursion
ATTACH;FMTTYPE=image/jpeg:https://nordqua.org/wp-content/uploads/2023/11/IAS.jpeg
END:VEVENT
BEGIN:VEVENT
DTSTART;VALUE=DATE:20250720
DTEND;VALUE=DATE:20250726
DTSTAMP:20260420T231746
CREATED:20241106T105159Z
LAST-MODIFIED:20241106T105159Z
UID:2118-1752969600-1753487999@nordqua.org
SUMMARY:IGS Symposia: Ice Streams and Outlet Glaciers
DESCRIPTION:Ice streams and outlet glaciers are important components of an ice sheet’s mass balance and their behaviour directly impacts on sea level. These corridors of fast-flowing ice have been described as the ‘arteries’ of an ice sheet and their distinction is largely semantic\, with ice streams bordered by slower-moving ice and outlet glaciers bordered by exposed bedrock at the surface. Since the recognition of the importance of these features in the 1970s\, there has been a huge growth in their investigation. This began with the pioneering work on West Antarctic ice streams and has subsequently expanded to studies of ice streams and outlet glaciers in all of the world’s major ice sheets and ice masses. Of urgent concern for society are recent observations of dynamic changes in ice streams and outlet glaciers\, which are thought to be responsible for an acceleration in global eustatic sea-level rise. \nIn parallel\, those studying palaeo-ice sheet beds have long-recognised the distinctive geomorphology of ice streams in both marine and terrestrial settings. The study of palaeo-ice streams offers an unprecedented opportunity to reconstruct their behaviour over time-scales much longer than modern observations permit\, generating new insights into the spatial and temporal controls on their flow\, including longer-term perspectives on retreat rates and thinning histories. The beds of palaeo-ice streams and outlet glaciers are also more accessible for investigation\, leading to new insights regarding the mechanisms of sediment erosion\, transport and deposition beneath fastflowing ice\, including the formation of subglacial bedforms.
URL:https://nordqua.org/event/igs-symposia-ice-streams-and-outlet-glaciers/
LOCATION:Durham\, UK
CATEGORIES:Conference
ATTACH;FMTTYPE=image/jpeg:https://nordqua.org/wp-content/uploads/2024/11/ISOG2025_crop.jpg
END:VEVENT
BEGIN:VEVENT
DTSTART;VALUE=DATE:20250723
DTEND;VALUE=DATE:20250809
DTSTAMP:20260420T231746
CREATED:20250204T110356Z
LAST-MODIFIED:20250204T110423Z
UID:2233-1753228800-1754697599@nordqua.org
SUMMARY:Urbino Summer School in Paleoclimatology
DESCRIPTION:Applications open until March 6th 2025. The summer school of the USSP consortium focuses on past climate dynamics with special emphasis on the analysis of long-term carbon cycling and its implications in the understanding of present and future climates. USSP integrates lectures\, symposia\, field trips\, and exercises on the many different areas of paleoclimatology including biogeochemical cycling\, paleoceanography\, continental systems\, and all aspects of deep-time climate modelling. These techniques and systems are explored through interactive discussions of Cretaceous OAEs\, P/E hyperthermals\, the Greenhouse-Icehouse transition\, Neogene and Quaternary climate dynamics.
URL:https://nordqua.org/event/urbino-summer-school-in-paleoclimatology/
LOCATION:Urbino\, Italy\, Italy
CATEGORIES:Course
END:VEVENT
END:VCALENDAR